Package: GMRP Version: 1.39.0 Command: /Library/Frameworks/R.framework/Resources/bin/R CMD build --keep-empty-dirs --no-resave-data GMRP StartedAt: 2025-11-21 17:11:10 -0500 (Fri, 21 Nov 2025) EndedAt: 2025-11-21 17:11:34 -0500 (Fri, 21 Nov 2025) EllapsedTime: 24.1 seconds RetCode: 0 Status: OK PackageFile: GMRP_1.39.0.tar.gz PackageFileSize: 895.1 KiB