Package: GMRP Version: 1.39.0 Command: rm -rf GMRP.buildbin-libdir && mkdir GMRP.buildbin-libdir && /Users/biocbuild/BBS/utils/build-universal.sh GMRP_1.39.0.tar.gz /Library/Frameworks/R.framework/Resources/bin/R GMRP.buildbin-libdir StartedAt: 2025-11-22 01:37:00 -0500 (Sat, 22 Nov 2025) EndedAt: 2025-11-22 01:37:18 -0500 (Sat, 22 Nov 2025) EllapsedTime: 17.4 seconds RetCode: 0 Status: OK PackageFile: GMRP_1.39.0.tgz PackageFileSize: 976 KiB