Package: GMRP Version: 1.37.0 Command: /Library/Frameworks/R.framework/Resources/bin/R CMD INSTALL GMRP StartedAt: 2025-10-14 15:11:21 -0400 (Tue, 14 Oct 2025) EndedAt: 2025-10-14 15:11:25 -0400 (Tue, 14 Oct 2025) EllapsedTime: 3.7 seconds RetCode: 0 Status: OK