Package: GMRP Version: 1.37.0 Command: rm -rf GMRP.buildbin-libdir && mkdir GMRP.buildbin-libdir && /Users/biocbuild/BBS/utils/build-universal.sh GMRP_1.37.0.tar.gz /Library/Frameworks/R.framework/Resources/bin/R GMRP.buildbin-libdir StartedAt: 2025-10-14 23:23:57 -0400 (Tue, 14 Oct 2025) EndedAt: 2025-10-14 23:24:02 -0400 (Tue, 14 Oct 2025) EllapsedTime: 5.1 seconds RetCode: 0 Status: OK PackageFile: GMRP_1.37.0.tgz PackageFileSize: 979 KiB