Package: GLAD Version: 2.75.0 Command: /home/biocbuild/bbs-3.23-bioc/R/bin/R CMD INSTALL GLAD StartedAt: 2025-11-07 15:02:46 -0500 (Fri, 07 Nov 2025) EndedAt: 2025-11-07 15:03:07 -0500 (Fri, 07 Nov 2025) EllapsedTime: 21.6 seconds RetCode: 0 Status: OK