Package: GLAD Version: 2.75.0 Command: /home/biocbuild/bbs-3.23-bioc/R/bin/R CMD build --keep-empty-dirs --no-resave-data GLAD StartedAt: 2025-11-07 17:47:45 -0500 (Fri, 07 Nov 2025) EndedAt: 2025-11-07 17:48:04 -0500 (Fri, 07 Nov 2025) EllapsedTime: 19.0 seconds RetCode: 0 Status: OK PackageFile: GLAD_2.75.0.tar.gz PackageFileSize: 1.302 MiB