Package: GLAD Version: 2.73.0 Command: /Library/Frameworks/R.framework/Resources/bin/R CMD INSTALL GLAD StartedAt: 2025-10-12 15:05:39 -0400 (Sun, 12 Oct 2025) EndedAt: 2025-10-12 15:06:19 -0400 (Sun, 12 Oct 2025) EllapsedTime: 40.8 seconds RetCode: 0 Status: OK