Package: GIGSEA Version: 1.29.0 Command: /home/biocbuild/bbs-3.23-bioc/R/bin/R CMD INSTALL GIGSEA StartedAt: 2025-10-31 15:13:09 -0400 (Fri, 31 Oct 2025) EndedAt: 2025-10-31 15:13:14 -0400 (Fri, 31 Oct 2025) EllapsedTime: 5.0 seconds RetCode: 0 Status: OK