Package: GIGSEA Version: 1.29.0 Command: /home/biocbuild/bbs-3.23-bioc/R/bin/R CMD build --keep-empty-dirs --no-resave-data GIGSEA StartedAt: 2025-10-31 18:02:19 -0400 (Fri, 31 Oct 2025) EndedAt: 2025-10-31 18:05:51 -0400 (Fri, 31 Oct 2025) EllapsedTime: 212.2 seconds RetCode: 0 Status: OK PackageFile: GIGSEA_1.29.0.tar.gz PackageFileSize: 1.325 MiB