Package: GIGSEA Version: 1.27.0 Command: /Library/Frameworks/R.framework/Resources/bin/R CMD INSTALL GIGSEA StartedAt: 2025-10-13 15:03:55 -0400 (Mon, 13 Oct 2025) EndedAt: 2025-10-13 15:03:58 -0400 (Mon, 13 Oct 2025) EllapsedTime: 2.8 seconds RetCode: 0 Status: OK