Package: GIGSEA Version: 1.27.0 Command: /Library/Frameworks/R.framework/Resources/bin/R CMD build --keep-empty-dirs --no-resave-data GIGSEA StartedAt: 2025-10-13 16:32:28 -0400 (Mon, 13 Oct 2025) EndedAt: 2025-10-13 16:34:39 -0400 (Mon, 13 Oct 2025) EllapsedTime: 131.3 seconds RetCode: 0 Status: OK PackageFile: GIGSEA_1.27.0.tar.gz PackageFileSize: 1.325 MiB