Package: GIGSEA Version: 1.27.0 Command: rm -rf GIGSEA.buildbin-libdir && mkdir GIGSEA.buildbin-libdir && /Users/biocbuild/BBS/utils/build-universal.sh GIGSEA_1.27.0.tar.gz /Library/Frameworks/R.framework/Resources/bin/R GIGSEA.buildbin-libdir StartedAt: 2025-10-13 22:44:22 -0400 (Mon, 13 Oct 2025) EndedAt: 2025-10-13 22:44:25 -0400 (Mon, 13 Oct 2025) EllapsedTime: 3.1 seconds RetCode: 0 Status: OK PackageFile: GIGSEA_1.27.0.tgz PackageFileSize: 1.725 MiB