Package: GEWIST Version: 1.55.0 Command: /home/biocbuild/bbs-3.23-bioc/R/bin/R CMD build --keep-empty-dirs --no-resave-data GEWIST StartedAt: 2025-11-02 17:48:36 -0500 (Sun, 02 Nov 2025) EndedAt: 2025-11-02 17:50:06 -0500 (Sun, 02 Nov 2025) EllapsedTime: 90.1 seconds RetCode: 0 Status: OK PackageFile: GEWIST_1.55.0.tar.gz PackageFileSize: 388 KiB