Package: GEWIST Version: 1.53.0 Command: rm -rf GEWIST.buildbin-libdir && mkdir GEWIST.buildbin-libdir && /Users/biocbuild/BBS/utils/build-universal.sh GEWIST_1.53.0.tar.gz /Library/Frameworks/R.framework/Resources/bin/R GEWIST.buildbin-libdir StartedAt: 2025-10-17 03:52:43 -0400 (Fri, 17 Oct 2025) EndedAt: 2025-10-17 03:52:49 -0400 (Fri, 17 Oct 2025) EllapsedTime: 5.8 seconds RetCode: 0 Status: OK PackageFile: GEWIST_1.53.0.tgz PackageFileSize: 412.3 KiB