Package: GEWIST Version: 1.53.0 Command: rm -rf GEWIST.buildbin-libdir && mkdir GEWIST.buildbin-libdir && /Users/biocbuild/BBS/utils/build-universal.sh GEWIST_1.53.0.tar.gz /Library/Frameworks/R.framework/Resources/bin/R GEWIST.buildbin-libdir StartedAt: 2025-10-03 22:40:59 -0400 (Fri, 03 Oct 2025) EndedAt: 2025-10-03 22:41:01 -0400 (Fri, 03 Oct 2025) EllapsedTime: 2.0 seconds RetCode: 0 Status: OK PackageFile: GEWIST_1.53.0.tgz PackageFileSize: 413.5 KiB