Package: GEWIST Version: 1.55.0 Maintainer: Wei Q. Deng MaintainerEmail: dengwq at mcmaster.ca git_url: https://git.bioconductor.org/packages/GEWIST git_branch: devel git_last_commit: c4557a9 git_last_commit_date: 2025-10-29 10:09:57 -0400 (Wed, 29 Oct 2025)