Package: GEOsubmission Version: 1.63.0 Command: /home/biocbuild/bbs-3.23-bioc/R/bin/R CMD INSTALL GEOsubmission StartedAt: 2025-11-03 15:12:22 -0500 (Mon, 03 Nov 2025) EndedAt: 2025-11-03 15:12:27 -0500 (Mon, 03 Nov 2025) EllapsedTime: 4.9 seconds RetCode: 0 Status: OK