Package: GEOsubmission Version: 1.63.0 Command: /home/biocbuild/bbs-3.23-bioc/R/bin/R CMD check --install=check:GEOsubmission.install-out.txt --library=/home/biocbuild/bbs-3.23-bioc/R/site-library --timings GEOsubmission_1.63.0.tar.gz StartedAt: 2025-11-04 23:48:05 -0500 (Tue, 04 Nov 2025) EndedAt: 2025-11-04 23:48:32 -0500 (Tue, 04 Nov 2025) EllapsedTime: 27.1 seconds RetCode: 0 Status: OK CheckDir: GEOsubmission.Rcheck Warnings: 0