Package: GEOquery Version: 2.77.6 Command: /home/biocbuild/R/R/bin/R CMD INSTALL GEOquery StartedAt: 2025-09-29 21:08:57 -0000 (Mon, 29 Sep 2025) EndedAt: 2025-09-29 21:09:30 -0000 (Mon, 29 Sep 2025) EllapsedTime: 32.3 seconds RetCode: 0 Status: OK