Package: GEOquery Version: 2.77.6 Command: /home/biocbuild/R/R/bin/R CMD build --keep-empty-dirs --no-resave-data GEOquery StartedAt: 2025-10-03 00:13:17 -0000 (Fri, 03 Oct 2025) EndedAt: 2025-10-03 00:13:20 -0000 (Fri, 03 Oct 2025) EllapsedTime: 3.0 seconds RetCode: 0 Status: OK PackageFile: GEOquery_2.77.6.tar.gz PackageFileSize: 12.83 MiB