Package: GEOquery Version: 2.77.1 Command: F:\biocbuild\bbs-3.22-bioc\R\bin\R.exe CMD INSTALL GEOquery StartedAt: 2025-08-14 16:18:13 -0400 (Thu, 14 Aug 2025) EndedAt: 2025-08-14 16:19:08 -0400 (Thu, 14 Aug 2025) EllapsedTime: 54.8 seconds RetCode: 0 Status: OK