Package: GEOquery Version: 2.77.1 Command: chmod a+r GEOquery -R && F:\biocbuild\bbs-3.22-bioc\R\bin\R.exe CMD build --keep-empty-dirs --no-resave-data GEOquery StartedAt: 2025-08-14 20:29:49 -0400 (Thu, 14 Aug 2025) EndedAt: 2025-08-14 20:31:22 -0400 (Thu, 14 Aug 2025) EllapsedTime: 93.0 seconds RetCode: 0 Status: OK PackageFile: GEOquery_2.77.1.tar.gz PackageFileSize: 13.07 MiB