Package: GEOquery Version: 2.77.1 Command: rm -rf GEOquery.buildbin-libdir && mkdir GEOquery.buildbin-libdir && F:\biocbuild\bbs-3.22-bioc\R\bin\R.exe CMD INSTALL --build --library=GEOquery.buildbin-libdir GEOquery_2.77.1.tar.gz StartedAt: 2025-08-15 10:22:37 -0400 (Fri, 15 Aug 2025) EndedAt: 2025-08-15 10:23:26 -0400 (Fri, 15 Aug 2025) EllapsedTime: 49.4 seconds RetCode: 0 Status: OK PackageFile: GEOquery_2.77.1.zip PackageFileSize: 13.37 MiB