Package: GEOquery Version: 2.79.0 Command: /home/biocbuild/bbs-3.23-bioc/R/bin/R CMD INSTALL GEOquery StartedAt: 2025-11-20 15:32:56 -0500 (Thu, 20 Nov 2025) EndedAt: 2025-11-20 15:33:22 -0500 (Thu, 20 Nov 2025) EllapsedTime: 26.0 seconds RetCode: 0 Status: OK