Package: GEOquery Version: 2.79.0 Command: /home/biocbuild/bbs-3.23-bioc/R/bin/R CMD check --install=check:GEOquery.install-out.txt --library=/home/biocbuild/bbs-3.23-bioc/R/site-library --timings GEOquery_2.79.0.tar.gz StartedAt: 2025-11-21 00:00:41 -0500 (Fri, 21 Nov 2025) EndedAt: 2025-11-21 00:05:28 -0500 (Fri, 21 Nov 2025) EllapsedTime: 286.5 seconds RetCode: 0 Status: WARNINGS CheckDir: GEOquery.Rcheck Warnings: 1