Package: GEOmetadb Version: 1.71.0 Command: /home/biocbuild/bbs-3.22-bioc/R/bin/R CMD check --install=check:GEOmetadb.install-out.txt --library=/home/biocbuild/bbs-3.22-bioc/R/site-library --timings GEOmetadb_1.71.0.tar.gz StartedAt: 2025-10-22 00:20:04 -0400 (Wed, 22 Oct 2025) EndedAt: 2025-10-22 00:20:45 -0400 (Wed, 22 Oct 2025) EllapsedTime: 41.0 seconds RetCode: 0 Status: WARNINGS CheckDir: GEOmetadb.Rcheck Warnings: 1