Package: GEOmetadb Version: 1.73.0 Command: /home/biocbuild/bbs-3.23-bioc/R/bin/R CMD INSTALL GEOmetadb StartedAt: 2025-11-03 15:04:01 -0500 (Mon, 03 Nov 2025) EndedAt: 2025-11-03 15:04:15 -0500 (Mon, 03 Nov 2025) EllapsedTime: 13.6 seconds RetCode: 0 Status: OK