Package: GEOmetadb Version: 1.73.0 Command: /home/biocbuild/bbs-3.23-bioc/R/bin/R CMD build --keep-empty-dirs --no-resave-data GEOmetadb StartedAt: 2025-11-03 17:43:02 -0500 (Mon, 03 Nov 2025) EndedAt: 2025-11-03 17:43:17 -0500 (Mon, 03 Nov 2025) EllapsedTime: 15.0 seconds RetCode: 0 Status: OK PackageFile: GEOmetadb_1.73.0.tar.gz PackageFileSize: 636.8 KiB