Package: GEOmetadb Version: 1.71.0 Command: /Library/Frameworks/R.framework/Resources/bin/R CMD INSTALL GEOmetadb StartedAt: 2025-10-06 15:05:57 -0400 (Mon, 06 Oct 2025) EndedAt: 2025-10-06 15:06:38 -0400 (Mon, 06 Oct 2025) EllapsedTime: 40.2 seconds RetCode: 0 Status: OK