Package: GEOmetadb Version: 1.71.0 Command: /Library/Frameworks/R.framework/Resources/bin/R CMD build --keep-empty-dirs --no-resave-data GEOmetadb StartedAt: 2025-10-06 17:11:22 -0400 (Mon, 06 Oct 2025) EndedAt: 2025-10-06 17:11:53 -0400 (Mon, 06 Oct 2025) EllapsedTime: 31.5 seconds RetCode: 0 Status: OK PackageFile: GEOmetadb_1.71.0.tar.gz PackageFileSize: 618.2 KiB