Package: GEOmetadb Version: 1.71.0 Command: rm -rf GEOmetadb.buildbin-libdir && mkdir GEOmetadb.buildbin-libdir && /Users/biocbuild/BBS/utils/build-universal.sh GEOmetadb_1.71.0.tar.gz /Library/Frameworks/R.framework/Resources/bin/R GEOmetadb.buildbin-libdir StartedAt: 2025-09-21 22:50:27 -0400 (Sun, 21 Sep 2025) EndedAt: 2025-09-21 22:50:30 -0400 (Sun, 21 Sep 2025) EllapsedTime: 3.1 seconds RetCode: 0 Status: OK PackageFile: GEOmetadb_1.71.0.tgz PackageFileSize: 531.5 KiB