Package: GEOfastq Version: 1.18.0 Command: /home/biocbuild/bbs-3.22-bioc/R/bin/R CMD check --install=check:GEOfastq.install-out.txt --library=/home/biocbuild/bbs-3.22-bioc/R/site-library --timings GEOfastq_1.18.0.tar.gz StartedAt: 2025-10-30 06:23:06 -0400 (Thu, 30 Oct 2025) EndedAt: 2025-10-30 06:23:47 -0400 (Thu, 30 Oct 2025) EllapsedTime: 41.0 seconds RetCode: 0 Status: OK CheckDir: GEOfastq.Rcheck Warnings: 0