Package: GEOfastq Version: 1.19.0 Command: /home/biocbuild/bbs-3.23-bioc/R/bin/R CMD build --keep-empty-dirs --no-resave-data GEOfastq StartedAt: 2025-11-07 17:44:49 -0500 (Fri, 07 Nov 2025) EndedAt: 2025-11-07 17:45:01 -0500 (Fri, 07 Nov 2025) EllapsedTime: 12.0 seconds RetCode: 0 Status: OK PackageFile: GEOfastq_1.19.0.tar.gz PackageFileSize: 13.31 KiB