Package: GEOfastq Version: 1.17.0 Command: /Library/Frameworks/R.framework/Resources/bin/R CMD INSTALL GEOfastq StartedAt: 2025-10-03 15:08:12 -0400 (Fri, 03 Oct 2025) EndedAt: 2025-10-03 15:09:17 -0400 (Fri, 03 Oct 2025) EllapsedTime: 65.1 seconds RetCode: 0 Status: OK