Package: GEOfastq Version: 1.17.0 Command: /Library/Frameworks/R.framework/Resources/bin/R CMD build --keep-empty-dirs --no-resave-data GEOfastq StartedAt: 2025-10-03 17:10:17 -0400 (Fri, 03 Oct 2025) EndedAt: 2025-10-03 17:10:30 -0400 (Fri, 03 Oct 2025) EllapsedTime: 13.7 seconds RetCode: 0 Status: OK PackageFile: GEOfastq_1.17.0.tar.gz PackageFileSize: 13.16 KiB