Package: GEOfastq Version: 1.17.0 Command: rm -rf GEOfastq.buildbin-libdir && mkdir GEOfastq.buildbin-libdir && /Users/biocbuild/BBS/utils/build-universal.sh GEOfastq_1.17.0.tar.gz /Library/Frameworks/R.framework/Resources/bin/R GEOfastq.buildbin-libdir StartedAt: 2025-10-04 02:07:17 -0400 (Sat, 04 Oct 2025) EndedAt: 2025-10-04 02:07:23 -0400 (Sat, 04 Oct 2025) EllapsedTime: 5.6 seconds RetCode: 0 Status: OK PackageFile: GEOfastq_1.17.0.tgz PackageFileSize: 36.8 KiB