Package: GEOexplorer Version: 1.15.0 Command: /home/biocbuild/bbs-3.22-bioc/R/bin/R CMD INSTALL GEOexplorer StartedAt: 2025-10-23 15:33:56 -0400 (Thu, 23 Oct 2025) EndedAt: 2025-10-23 15:34:40 -0400 (Thu, 23 Oct 2025) EllapsedTime: 44.2 seconds RetCode: 0 Status: OK