Package: GEOexplorer Version: 1.15.0 Command: /home/biocbuild/bbs-3.22-bioc/R/bin/R CMD build --keep-empty-dirs --no-resave-data --md5 GEOexplorer StartedAt: 2025-10-24 17:58:55 -0400 (Fri, 24 Oct 2025) EndedAt: 2025-10-24 17:59:52 -0400 (Fri, 24 Oct 2025) EllapsedTime: 57.0 seconds RetCode: 0 Status: OK PackageFile: GEOexplorer_1.15.0.tar.gz PackageFileSize: 11.26 MiB