Package: GENIE3 Version: 1.33.0 Command: /home/biocbuild/bbs-3.23-bioc/R/bin/R CMD INSTALL GENIE3 StartedAt: 2025-11-20 15:08:17 -0500 (Thu, 20 Nov 2025) EndedAt: 2025-11-20 15:08:21 -0500 (Thu, 20 Nov 2025) EllapsedTime: 4.2 seconds RetCode: 0 Status: OK