Package: GENIE3 Version: 1.31.0 Command: /Library/Frameworks/R.framework/Resources/bin/R CMD INSTALL GENIE3 StartedAt: 2025-10-16 15:37:49 -0400 (Thu, 16 Oct 2025) EndedAt: 2025-10-16 15:38:18 -0400 (Thu, 16 Oct 2025) EllapsedTime: 29.4 seconds RetCode: 0 Status: OK