Package: GENIE3 Version: 1.31.0 Command: rm -rf GENIE3.buildbin-libdir && mkdir GENIE3.buildbin-libdir && /Users/biocbuild/BBS/utils/build-universal.sh GENIE3_1.31.0.tar.gz /Library/Frameworks/R.framework/Resources/bin/R GENIE3.buildbin-libdir StartedAt: 2025-10-17 03:52:06 -0400 (Fri, 17 Oct 2025) EndedAt: 2025-10-17 03:52:17 -0400 (Fri, 17 Oct 2025) EllapsedTime: 10.4 seconds RetCode: 0 Status: OK PackageFile: GENIE3_1.31.0.tgz PackageFileSize: 264.8 KiB