Package: GENIE3 Version: 1.31.0 Command: /Library/Frameworks/R.framework/Resources/bin/R CMD INSTALL GENIE3 StartedAt: 2025-09-30 15:05:27 -0400 (Tue, 30 Sep 2025) EndedAt: 2025-09-30 15:05:34 -0400 (Tue, 30 Sep 2025) EllapsedTime: 6.1 seconds RetCode: 0 Status: OK