Package: GENIE3 Version: 1.33.0 Maintainer: Van Anh Huynh-Thu MaintainerEmail: vahuynh at uliege.be git_url: https://git.bioconductor.org/packages/GENIE3 git_branch: devel git_last_commit: a1fea06 git_last_commit_date: 2025-10-29 10:39:50 -0400 (Wed, 29 Oct 2025)