Package: GENESIS Version: 2.41.0 Command: /home/biocbuild/bbs-3.23-bioc/R/bin/R CMD INSTALL GENESIS StartedAt: 2025-11-05 15:30:39 -0500 (Wed, 05 Nov 2025) EndedAt: 2025-11-05 15:31:04 -0500 (Wed, 05 Nov 2025) EllapsedTime: 25.2 seconds RetCode: 0 Status: OK