Package: GENESIS Version: 2.39.3 Command: /Library/Frameworks/R.framework/Resources/bin/R CMD INSTALL GENESIS StartedAt: 2025-10-17 15:25:39 -0400 (Fri, 17 Oct 2025) EndedAt: 2025-10-17 15:26:16 -0400 (Fri, 17 Oct 2025) EllapsedTime: 36.8 seconds RetCode: 0 Status: OK