Package: GENESIS Version: 2.39.3 Command: /Library/Frameworks/R.framework/Resources/bin/R CMD build --keep-empty-dirs --no-resave-data GENESIS StartedAt: 2025-10-17 17:19:47 -0400 (Fri, 17 Oct 2025) EndedAt: 2025-10-17 17:22:23 -0400 (Fri, 17 Oct 2025) EllapsedTime: 155.8 seconds RetCode: 0 Status: OK PackageFile: GENESIS_2.39.3.tar.gz PackageFileSize: 3.846 MiB