Package: GENESIS Version: 2.39.3 Command: rm -rf GENESIS.buildbin-libdir && mkdir GENESIS.buildbin-libdir && /Users/biocbuild/BBS/utils/build-universal.sh GENESIS_2.39.3.tar.gz /Library/Frameworks/R.framework/Resources/bin/R GENESIS.buildbin-libdir StartedAt: 2025-10-18 02:59:23 -0400 (Sat, 18 Oct 2025) EndedAt: 2025-10-18 03:00:06 -0400 (Sat, 18 Oct 2025) EllapsedTime: 42.9 seconds RetCode: 0 Status: OK PackageFile: GENESIS_2.39.3.tgz PackageFileSize: 4.133 MiB