Package: GENESIS Version: 2.39.3 Command: /Library/Frameworks/R.framework/Resources/bin/R CMD INSTALL GENESIS StartedAt: 2025-10-12 15:14:49 -0400 (Sun, 12 Oct 2025) EndedAt: 2025-10-12 15:14:59 -0400 (Sun, 12 Oct 2025) EllapsedTime: 10.7 seconds RetCode: 0 Status: OK