Package: GENESIS Version: 2.39.3 Command: /Library/Frameworks/R.framework/Resources/bin/R CMD build --keep-empty-dirs --no-resave-data GENESIS StartedAt: 2025-10-10 16:29:39 -0400 (Fri, 10 Oct 2025) EndedAt: 2025-10-10 16:30:23 -0400 (Fri, 10 Oct 2025) EllapsedTime: 44.5 seconds RetCode: 0 Status: OK PackageFile: GENESIS_2.39.3.tar.gz PackageFileSize: 3.847 MiB