Package: GENESIS Version: 2.39.3 Command: rm -rf GENESIS.buildbin-libdir && mkdir GENESIS.buildbin-libdir && /Users/biocbuild/BBS/utils/build-universal.sh GENESIS_2.39.3.tar.gz /Library/Frameworks/R.framework/Resources/bin/R GENESIS.buildbin-libdir StartedAt: 2025-10-12 22:38:21 -0400 (Sun, 12 Oct 2025) EndedAt: 2025-10-12 22:38:33 -0400 (Sun, 12 Oct 2025) EllapsedTime: 12.3 seconds RetCode: 0 Status: OK PackageFile: GENESIS_2.39.3.tgz PackageFileSize: 4.135 MiB